View In:
ArcGIS JavaScript
ArcGIS Online Map Viewer
ArcGIS Earth
ArcGIS Pro
Service Description: Cached basemap service for Maple Grove Cartegraph OMS
Map Name: Layers
Legend
All Layers and Tables
Dynamic Legend
Dynamic All Layers
Layers:
Description: Cached basemap service for Maple Grove Cartegraph OMS
Copyright Text:
Spatial Reference:
102100
(3857)
LatestVCSWkid(0)
Single Fused Map Cache: true
Tile Info:
- Height: 256.0
- Width: 256.0
- DPI: 96.0
-
Levels of Detail: 24
-
Level ID: 1
[ Start Tile, End Tile ]
- Resolution: 78271.5169639999
- Scale: 2.95828763795777E8
-
Level ID: 2
[ Start Tile, End Tile ]
- Resolution: 39135.7584820001
- Scale: 1.47914381897889E8
-
Level ID: 3
[ Start Tile, End Tile ]
- Resolution: 19567.8792409999
- Scale: 7.3957190948944E7
-
Level ID: 4
[ Start Tile, End Tile ]
- Resolution: 9783.93962049996
- Scale: 3.6978595474472E7
-
Level ID: 5
[ Start Tile, End Tile ]
- Resolution: 4891.96981024998
- Scale: 1.8489297737236E7
- Format: Mixed
- Compression Quality: 75.0
- Origin: X: -2.0037508342787E7
Y: 2.0037508342787E7
- Spatial Reference: 102100
(3857)
LatestVCSWkid(0)
Storage Info:
- Storage Format: esriMapCacheStorageModeCompactV2
- Packet Size: 128
Initial Extent:
XMin: -1.042500913071028E7
YMin: 5624319.98252963
XMax: -1.0381860428243356E7
YMax: 5655544.508584083
Spatial Reference: 102100
(3857)
LatestVCSWkid(0)
Full Extent:
XMin: -1.0419525351770483E7
YMin: 5629889.6111504985
XMax: -1.0389313959053949E7
YMax: 5647412.601106894
Spatial Reference: 102100
(3857)
LatestVCSWkid(0)
Units: esriMeters
Supported Image Format Types: PNG32,PNG24,PNG,JPG,DIB,TIFF,EMF,PS,PDF,GIF,SVG,SVGZ,BMP
Document Info:
Title: CartegraphBasemap
Author:
Comments: Cached basemap service for Maple Grove Cartegraph OMS
Subject: Maple Grove basemap used for Cartegraph
Category:
Keywords: Cartegraph,Maple Grove,cached service
AntialiasingMode: None
TextAntialiasingMode: None
Supports Dynamic Layers: true
Resampling: false
MaxRecordCount: 1000
MaxSelectionCount: 2000
MaxImageHeight: 4096
MaxImageWidth: 4096
Supported Query Formats: JSON, geoJSON, PBF
Supports Query Data Elements: true
Min Scale: 288895.277144
Max Scale: 1128.497176
Min LOD: 11
Max LOD: 19
Supports Datum Transformation: true
Child Resources:
Info
Dynamic Layer
Supported Operations:
Export Map
Identify
QueryLegends
QueryDomains
Find
Return Updates